BEGIN:VCALENDAR
VERSION:2.0
PRODID:-//Manege Lintorf - Jugendzentrum Ratingen-Lintorf - ECPv6.15.15//NONSGML v1.0//EN
CALSCALE:GREGORIAN
METHOD:PUBLISH
X-WR-CALNAME:Manege Lintorf - Jugendzentrum Ratingen-Lintorf
X-ORIGINAL-URL:https://manege-lintorf.de
X-WR-CALDESC:Veranstaltungen für Manege Lintorf - Jugendzentrum Ratingen-Lintorf
REFRESH-INTERVAL;VALUE=DURATION:PT1H
X-Robots-Tag:noindex
X-PUBLISHED-TTL:PT1H
BEGIN:VTIMEZONE
TZID:Europe/Berlin
BEGIN:DAYLIGHT
TZOFFSETFROM:+0100
TZOFFSETTO:+0200
TZNAME:CEST
DTSTART:20240331T010000
END:DAYLIGHT
BEGIN:STANDARD
TZOFFSETFROM:+0200
TZOFFSETTO:+0100
TZNAME:CET
DTSTART:20241027T010000
END:STANDARD
BEGIN:DAYLIGHT
TZOFFSETFROM:+0100
TZOFFSETTO:+0200
TZNAME:CEST
DTSTART:20250330T010000
END:DAYLIGHT
BEGIN:STANDARD
TZOFFSETFROM:+0200
TZOFFSETTO:+0100
TZNAME:CET
DTSTART:20251026T010000
END:STANDARD
BEGIN:DAYLIGHT
TZOFFSETFROM:+0100
TZOFFSETTO:+0200
TZNAME:CEST
DTSTART:20260329T010000
END:DAYLIGHT
BEGIN:STANDARD
TZOFFSETFROM:+0200
TZOFFSETTO:+0100
TZNAME:CET
DTSTART:20261025T010000
END:STANDARD
END:VTIMEZONE
BEGIN:VEVENT
DTSTART;TZID=Europe/Berlin:20250425T150000
DTEND;TZID=Europe/Berlin:20250425T190000
DTSTAMP:20260425T141930
CREATED:20250424T161745Z
LAST-MODIFIED:20250424T162947Z
UID:10000402-1745593200-1745607600@manege-lintorf.de
SUMMARY:Fest der Kulturen
DESCRIPTION:Heute findet bei uns das Fest der Kulturen statt! Von 15 bis 19 Uhr erwartet euch ein buntes Programm für Groß und Klein! \nKommt vorbei – wir freuen uns auf euch! \nProgramm \nBühne  (15:30 – 18:30 Uhr) \n15:30 – Tanzprojekt Homberg \n15:50 – Tanzprojekt LUX #1 \n16:00 – Rede Herr Filip \n16:20 – Vorstellung Projekte \n16:30 – Tanzprojekt LUX #2 \n16:40 – Singprojekt Phoenix \n17:00 – Tanzprojekt LUX #3 \n17:10 – Filmvorführung LUX \n17:15 – Sapali Trommelshow \n17:45 – Etienne Eben Band \nWorkshops (15:30 – 18:30 Uhr) \nab 15:30 Uhr – Manga zeichnen mit Alex \n16:15 – 17:00 Uhr – Trommeln mit Sapali \nAngebote (15:00 – 19:00 Uhr) \nSpielmobil Felix \nSpiele aus aller Welt \nMarkt der Möglichkeiten \nStockbrot \n 
URL:https://manege-lintorf.de/termin/fest-der-kulturen
LOCATION:Manege Lintorf\, Jahnstr. 28\, Ratingen\, 40885\, Deutschland
CATEGORIES:Events
ATTACH;FMTTYPE=image/jpeg:https://manege-lintorf.de/wp-content/uploads/2025/04/Homepage-1.jpg
ORGANIZER;CN="Johannes Treudt":MAILTO:johannes@manege-lintorf.de
END:VEVENT
BEGIN:VEVENT
DTSTART;TZID=Europe/Berlin:20250411T000000
DTEND;TZID=Europe/Berlin:20250411T000000
DTSTAMP:20260425T141930
CREATED:20250311T131024Z
LAST-MODIFIED:20250321T144617Z
UID:10000397-1744329600-1744329600@manege-lintorf.de
SUMMARY:Stufenparty DBG
DESCRIPTION:Die Party wird leider nicht stattfinden!
URL:https://manege-lintorf.de/termin/stufenparty-dbg
LOCATION:Manege Lintorf\, Jahnstr. 28\, Ratingen\, 40885\, Deutschland
CATEGORIES:Stufenparty
ATTACH;FMTTYPE=image/png:https://manege-lintorf.de/wp-content/uploads/2025/03/StuPa-abgesagt.png
ORGANIZER;CN="Gianna Zurlo":MAILTO:gianna@manege-lintorf.de
END:VEVENT
BEGIN:VEVENT
DTSTART;TZID=Europe/Berlin:20250409T190000
DTEND;TZID=Europe/Berlin:20250409T230000
DTSTAMP:20260425T141930
CREATED:20241118T163639Z
LAST-MODIFIED:20250320T174312Z
UID:10000371-1744225200-1744239600@manege-lintorf.de
SUMMARY:Konzert: The Bolokos
DESCRIPTION:🎸🌟 The Bolokos – Live in der Manege Lintorf! 🌟🎸 \nErlebt die karibische Punkband\, die die Herzen der Punkfans weltweit erobert hat! 🔥🌍\nNach ihrem legendären Auftritt 2023 sind The Bolokos zurück in der Manege\, um euch einen unvergesslichen Abend voller Energie\, Leidenschaft und einzigartiger Musik zu bieten! 🎶⚡ \nMit einer explosiven Mischung aus Punk\, Country\, Ska\, Celtic und Creole Sounds rocken sie die Bühne! Gitarre\, Bass\, Schlagzeug und experimentelle Klänge wie Gwo Ka\, Melodica\, Banjo und Trompete – alles ist dabei! 🎸🎺🎤 \nSpecial Guests: \n• André Sinner – Lasst euch von einem weiteren großartigen Künstler begeistern\, der mit seinem Mix aus Ruhrpott-Punk und irischen Trinkliedern überzeugt.\nRuhrpott-Punk trifft auf irische Trinklieder\, passt 🍻🎸 \nEs wird laut\, wild und ein riesiges Fest! 🤘🎉 \n🕖 Einlass: 19:00 Uhr\n🎤 Beginn: 20:00 Uhr \nVerpasst nicht den Punk-Abend des Jahres – seht The Bolokos live! 🤩🔥
URL:https://manege-lintorf.de/termin/konzert-the-bolokos
LOCATION:Manege Lintorf\, Jahnstr. 28\, Ratingen\, 40885\, Deutschland
CATEGORIES:Events,Live Musik
ATTACH;FMTTYPE=image/png:https://manege-lintorf.de/wp-content/uploads/2024/11/Bolokos-Placeholder.png
ORGANIZER;CN="Johannes Treudt":MAILTO:johannes@manege-lintorf.de
END:VEVENT
BEGIN:VEVENT
DTSTART;TZID=Europe/Berlin:20250405T210000
DTEND;TZID=Europe/Berlin:20250406T040000
DTSTAMP:20260425T141930
CREATED:20241118T135148Z
LAST-MODIFIED:20250327T140220Z
UID:10000355-1743886800-1743912000@manege-lintorf.de
SUMMARY:Elterntanz
DESCRIPTION:Absage des Elterntanzes am 05.04. – aber wir haben großartige Neuigkeiten! \nSchlechte Nachrichten zuerst: Der geplante Elterntanz am 05. April muss leider abgesagt werden. Aber wir haben bereits den nächsten Termin für euch – und der wird noch besser! \nMarkiert euch Mittwoch\, den 30. April\, denn wir feiern mit euch den Tanz in den Mai! 🎉 Freut euch auf ein Special-Programm mit einem exklusiven Konzert der Band S.A.C.K. 🎸🎶 \n📅 Datum: Mittwoch\, 30.04.⏰ Einlass: ab 21:00 Uhr🎟️ Tickets: Demnächst für 10 € im Vorverkauf in der Manege erhältlich \nLasst uns gemeinsam eine unvergessliche Nacht erleben – wir freuen uns auf euch! 💃🕺✨
URL:https://manege-lintorf.de/termin/elterntanz-7
LOCATION:Manege Lintorf\, Jahnstr. 28\, Ratingen\, 40885\, Deutschland
CATEGORIES:Elterntanz,Events
ATTACH;FMTTYPE=image/png:https://manege-lintorf.de/wp-content/uploads/2024/11/ET-Abgesagt.png
ORGANIZER;CN="Robert Thaler":MAILTO:Robert@manege-Lintorf.de
END:VEVENT
BEGIN:VEVENT
DTSTART;TZID=Europe/Berlin:20250326T190000
DTEND;TZID=Europe/Berlin:20250326T223000
DTSTAMP:20260425T141930
CREATED:20250129T153724Z
LAST-MODIFIED:20250202T011135Z
UID:10000393-1743015600-1743028200@manege-lintorf.de
SUMMARY:Dönerwetter
DESCRIPTION:Dönerwetter am 26. März \nWir wollten euch extra drauf hinweisen\, dass Dönerwetter am 26. März stattfindet. \nEinlass ist um 19:00 Uhr. Kommt rechtzeitig\, denn wer zuerst da ist\, bekommt den besten Platz – wer zu spät kommt\, kriegt trotzdem noch nen Döner. \nKarten sind leider schon komplett ausverkauft!
URL:https://manege-lintorf.de/termin/doenerwetter-5
LOCATION:Manege Lintorf\, Jahnstr. 28\, Ratingen\, 40885\, Deutschland
CATEGORIES:DönerWetter,Events
ATTACH;FMTTYPE=image/jpeg:https://manege-lintorf.de/wp-content/uploads/2025/01/DSCF5529-Enhanced-NR-scaled.jpg
ORGANIZER;CN="Robert Thaler":MAILTO:Robert@manege-Lintorf.de
END:VEVENT
BEGIN:VEVENT
DTSTART;VALUE=DATE:20250312
DTEND;VALUE=DATE:20250313
DTSTAMP:20260425T141930
CREATED:20250310T145408Z
LAST-MODIFIED:20250310T145408Z
UID:10000396-1741737600-1741823999@manege-lintorf.de
SUMMARY:Poetry Slam Ratingen
DESCRIPTION:Worte fliegen\, Reime krachen\, die Bühne bebt – am 12. März 2025 verwandelt sich die Manege Lintorf erneut in eine Arena der Sprachkunst! Beim Poetry Slam messen sich Wortakrobaten in einem leidenschaftlichen Wettstreit um die Gunst des Publikums. Mal lyrisch\, mal bissig\, mal urkomisch – doch immer einzigartig. \nDer Einlass beginnt um 19 Uhr\, Tickets gibt es für 5 € im Vorverkauf und 7 € an der Abendkasse. Also sichert euch eure Plätze\, wenn die besten Poetinnen und Poeten die Bühne zum Beben bringen!
URL:https://manege-lintorf.de/termin/poetry-slam-ratingen-3
LOCATION:Manege Lintorf\, Jahnstr. 28\, Ratingen\, 40885\, Deutschland
CATEGORIES:Events,Poetry Slam
ATTACH;FMTTYPE=image/png:https://manege-lintorf.de/wp-content/uploads/2025/03/Kopie-von-Poetry-Slam-Ratingen-091024-IG-POST.png
ORGANIZER;CN="Robert Thaler":MAILTO:Robert@manege-Lintorf.de
END:VEVENT
BEGIN:VEVENT
DTSTART;VALUE=DATE:20250303
DTEND;VALUE=DATE:20250304
DTSTAMP:20260425T141930
CREATED:20241118T161220Z
LAST-MODIFIED:20241118T161220Z
UID:10000369-1740960000-1741046399@manege-lintorf.de
SUMMARY:Manege meets Zooch - Karnevalsparty in der Manege!
DESCRIPTION:Die Party für Alle\, die nach dem Zooch feiern wollen!
URL:https://manege-lintorf.de/termin/manege-meets-zooch-karnevalsparty-in-der-manege
LOCATION:Manege Lintorf\, Jahnstr. 28\, Ratingen\, 40885\, Deutschland
CATEGORIES:Events,Party
ATTACH;FMTTYPE=image/png:https://manege-lintorf.de/wp-content/uploads/2024/11/After-Zooch-Party-Placeholder.png
ORGANIZER;CN="Robert Thaler":MAILTO:Robert@manege-Lintorf.de
END:VEVENT
BEGIN:VEVENT
DTSTART;VALUE=DATE:20250302
DTEND;VALUE=DATE:20250303
DTSTAMP:20260425T141930
CREATED:20241118T160620Z
LAST-MODIFIED:20241118T160620Z
UID:10000368-1740873600-1740959999@manege-lintorf.de
SUMMARY:Stufenparty
DESCRIPTION:Die Party für junge Menschen!
URL:https://manege-lintorf.de/termin/stufenparty-2
LOCATION:Manege Lintorf\, Jahnstr. 28\, Ratingen\, 40885\, Deutschland
CATEGORIES:Events,Stufenparty
ATTACH;FMTTYPE=image/png:https://manege-lintorf.de/wp-content/uploads/2024/11/Stufenparty-Placeholder.png
ORGANIZER;CN="Gianna Zurlo":MAILTO:gianna@manege-lintorf.de
END:VEVENT
BEGIN:VEVENT
DTSTART;TZID=Europe/Berlin:20250301T180000
DTEND;TZID=Europe/Berlin:20250301T220000
DTSTAMP:20260425T141930
CREATED:20241118T151932Z
LAST-MODIFIED:20250220T183211Z
UID:10000364-1740852000-1740866400@manege-lintorf.de
SUMMARY:Die inklusive Party - Karneval
DESCRIPTION:Helau und Alaaf! Karneval steht vor der Tür – und wir laden euch herzlich zu einer inklusiven Karnevalsparty ein! Gemeinsam mit der KoKoBe Mettmann feiern wir eine bunte\, fröhliche und barrierefreie Party\, bei der alle willkommen sind! \n📅 Datum: 01.03.2025\n🕕 Uhrzeit: 18:00 – 22:00 Uhr\n📍 Ort: Jugendzentrum Manege Lintorf\, Jahnstraße 28\, 40885 Ratingen\n🎟 Eintritt: 3 €\n🍽 Essen: 3 € (solange der Vorrat reicht)\n🔞 Alter: Ab 16 Jahren \nFür ein ausgelassene Stimmung sorgt DJ Timo\, der euch mit einer Mischung aus Karnevalshits und mitreißenden Partybeats so richtig einheizt. Kommt in euren kreativsten Kostümen – lasst euch von der Feierlaune anstecken und feiert mit uns die bunte Faschingszeit! \n⚠ Wichtige Info: Gruppen ab 5 Personen müssen sich vorab per E-Mail bei Mareike Evers (mareike@manege-lintorf.de) anmelden. \nWer ist die KoKoBe? \nDie Koordinierungs-\, Kontakt- und Beratungsstellen (KoKoBe) im Kreis Mettmann bieten kostenlose und unabhängige Beratung für Menschen mit Behinderung zu Themen wie Wohnen\, Arbeit\, Alltag und Lebensplanung. Ihr Ziel ist es\, Selbstbestimmung und Teilhabe zu stärken\, indem sie individuelle Unterstützung bieten – sei es beim Auszug aus dem Elternhaus\, bei der Suche nach passenden Freizeitangeboten oder durch Peer-Beratung\, bei der Menschen mit Behinderung andere Betroffene beraten. Zudem engagiert sich die KoKoBe für eine inklusivere Gesellschaft und arbeitet mit verschiedenen lokalen Akteuren zusammen. Finanziert wird die Arbeit der KoKoBe durch den Landschaftsverband Rheinland (LVR). \nMehr Informationen zur KoKoBe gibt es unter: www.kokobe-mettmann.de \nKommt vorbei\, tanzt\, lacht und feiert mit uns – wir freuen uns auf euch! 🎭🎶🥳
URL:https://manege-lintorf.de/termin/kokobe
LOCATION:Manege Lintorf\, Jahnstr. 28\, Ratingen\, 40885\, Deutschland
CATEGORIES:Events,Ultimativ inklusiv
ATTACH;FMTTYPE=image/png:https://manege-lintorf.de/wp-content/uploads/2024/11/Homepage-Insta2.png
ORGANIZER;CN="Mareike Evers":MAILTO:mareike@manege-lintorf.de
END:VEVENT
BEGIN:VEVENT
DTSTART;TZID=Europe/Berlin:20250221T183000
DTEND;TZID=Europe/Berlin:20250221T213000
DTSTAMP:20260425T141930
CREATED:20241118T145148Z
LAST-MODIFIED:20250129T135055Z
UID:10000362-1740162600-1740173400@manege-lintorf.de
SUMMARY:U15 Party
DESCRIPTION:* * * Die Tickets gibt es ab Donnerstag\, 06.02.2025\, für je 4€ in allen Ratinger Jugendzentren * * * \n\n\n🎉 U15-Party – Die bunte Sause für alle von 11 bis 15 Jahren! 🎭 \nAm 21. Februar 2025 heißt es: Feiern\, Tanzen und Spaß haben! Gemeinsam mit den Jugendzentren Lux und Café du Nord laden wir euch zu einer unvergesslichen U15-Party ein. Von 18:30 bis 21:30 Uhr erwartet euch coole Musik\, spannende Aktionen und jede Menge gute Laune. \nDresscode? Bunt und kreativ! Schnappt euch eure verrücktesten Verkleidungen und macht die Party noch bunter! Der Eintritt kostet nur 4 € – also packt eure Freunde ein und seid dabei! \nUnd wie immer gilt natürlich \n\n+ + + Elternfreie Zone + + +
URL:https://manege-lintorf.de/termin/u15-party-2
LOCATION:Manege Lintorf\, Jahnstr. 28\, Ratingen\, 40885\, Deutschland
CATEGORIES:Events,U15
ATTACH;FMTTYPE=image/png:https://manege-lintorf.de/wp-content/uploads/2024/11/U15-Insta-Beitrag.png
ORGANIZER;CN="Gianna Zurlo":MAILTO:gianna@manege-lintorf.de
END:VEVENT
BEGIN:VEVENT
DTSTART;TZID=Europe/Berlin:20250208T190000
DTEND;TZID=Europe/Berlin:20250208T233000
DTSTAMP:20260425T141930
CREATED:20241126T153657Z
LAST-MODIFIED:20241126T153757Z
UID:10000382-1739041200-1739057400@manege-lintorf.de
SUMMARY:Konzert Chefdenker
DESCRIPTION:🎸 **PUNKROCK ALARM IN DER MANEGE LINTORF!** 🎶🔥 \nAm **08.02.2025** erwartet euch ein legendärer Abend! 🗓️✨ \n**CHEFDENKER** – die Legenden der Punkszene 🎤💥 – Sie sind mal Rock’n’Roll mal Altherren-Rock ein anderes mal wieder Rock’n’Roll\, aber Sie bleiben immer Punk bringen ihren unverwechselbaren Mix direkt zu uns! 🌊⚡ \nDie Band ist ständig quer durch die Clubs im gesamten Bundesgebiet unterwegs und hat bereits auf großen Festivals wie dem **Ruhrpott Rodeo** und **Punk im Pott** abgeräumt! 🚀🤘 \n2025 setzen sie noch einen drauf und veröffentlichen ihr **7. Konzeptalbum** – seid gespannt! 🎶🔥 \n**Support** gibt’s von den energiegeladenen Ska-Punkern **SINNFREI** aus Düsseldorf! 🎷🎸 \nHier treffen rohe Energie und fette Sounds auf geballte Leidenschaft. ❤️‍🔥 \n📍 **Manege Lintorf** \n🕘 **Einlass**: 19:00 Uhr \n🎶 **Beginn**: 20:00 Uhr \n🎟️ **Tickets**: \n👉 **VVK**: 15 € \n👉 **AK**: 17 € \nLasst euch diesen Abend nicht entgehen – seid dabei\, wenn die Bühne bebt! 💥🔥🎶
URL:https://manege-lintorf.de/termin/konzert-chefdenker-2
CATEGORIES:Events,Live Musik
ATTACH;FMTTYPE=image/jpeg:https://manege-lintorf.de/wp-content/uploads/2024/11/chefdenker-Instapost-scaled.jpg
END:VEVENT
BEGIN:VEVENT
DTSTART;TZID=Europe/Berlin:20250207T200000
DTEND;TZID=Europe/Berlin:20250208T000000
DTSTAMP:20260425T141930
CREATED:20250131T144740Z
LAST-MODIFIED:20250131T144740Z
UID:10000395-1738958400-1738972800@manege-lintorf.de
SUMMARY:Stufenparty Carl Friedrich von Weizsäcker Gymnasium
DESCRIPTION:
URL:https://manege-lintorf.de/termin/stufenparty-carl-friedrich-von-weizsaecker-gymnasium
LOCATION:Manege Lintorf\, Jahnstr. 28\, Ratingen\, 40885\, Deutschland
CATEGORIES:Events,Stufenparty
ATTACH;FMTTYPE=image/jpeg:https://manege-lintorf.de/wp-content/uploads/2025/01/IMG-20250122-WA0001.jpg
ORGANIZER;CN="Gianna Zurlo":MAILTO:gianna@manege-lintorf.de
END:VEVENT
BEGIN:VEVENT
DTSTART;TZID=Europe/Berlin:20250205T190000
DTEND;TZID=Europe/Berlin:20250205T223000
DTSTAMP:20260425T141930
CREATED:20250129T142415Z
LAST-MODIFIED:20250202T011240Z
UID:10000392-1738782000-1738794600@manege-lintorf.de
SUMMARY:Dönerwetter
DESCRIPTION:Dönerwetter ist zurück – und ihr seid schuld! \nKaum war die letzte Show vorbei\, habt ihr nach Nachschub verlangt – also gut\, hier ist er: Dönerwetter am 5. Februar! 🌯🎤 \nDie einmalige Comedyshow die knuspriger ist als frisches Fladenbrot. \nEinlass ist ab 19:00 Uhr. \nKarten sind leider schon komplett ausverkauft! 
URL:https://manege-lintorf.de/termin/doenerwetter
LOCATION:Manege Lintorf\, Jahnstr. 28\, Ratingen\, 40885\, Deutschland
CATEGORIES:DönerWetter,Events
ATTACH;FMTTYPE=image/jpeg:https://manege-lintorf.de/wp-content/uploads/2025/01/DSCF5529-Enhanced-NR-scaled.jpg
ORGANIZER;CN="Robert Thaler":MAILTO:Robert@manege-Lintorf.de
END:VEVENT
BEGIN:VEVENT
DTSTART;TZID=Europe/Berlin:20250201T210000
DTEND;TZID=Europe/Berlin:20250202T040000
DTSTAMP:20260425T141930
CREATED:20241118T131034Z
LAST-MODIFIED:20241118T131034Z
UID:10000354-1738443600-1738468800@manege-lintorf.de
SUMMARY:Elterntanz
DESCRIPTION:Ü-30 Party
URL:https://manege-lintorf.de/termin/elterntanz-6
LOCATION:Manege Lintorf\, Jahnstr. 28\, Ratingen\, 40885\, Deutschland
CATEGORIES:Elterntanz,Events
ATTACH;FMTTYPE=image/png:https://manege-lintorf.de/wp-content/uploads/2024/11/Elterntanz-Website-Placeholder.png
ORGANIZER;CN="Robert Thaler":MAILTO:Robert@manege-Lintorf.de
END:VEVENT
END:VCALENDAR