BEGIN:VCALENDAR
VERSION:2.0
PRODID:-//Manege Lintorf - Jugendzentrum Ratingen-Lintorf - ECPv6.15.15//NONSGML v1.0//EN
CALSCALE:GREGORIAN
METHOD:PUBLISH
X-WR-CALNAME:Manege Lintorf - Jugendzentrum Ratingen-Lintorf
X-ORIGINAL-URL:https://manege-lintorf.de
X-WR-CALDESC:Veranstaltungen für Manege Lintorf - Jugendzentrum Ratingen-Lintorf
REFRESH-INTERVAL;VALUE=DURATION:PT1H
X-Robots-Tag:noindex
X-PUBLISHED-TTL:PT1H
BEGIN:VTIMEZONE
TZID:Europe/Berlin
BEGIN:DAYLIGHT
TZOFFSETFROM:+0100
TZOFFSETTO:+0200
TZNAME:CEST
DTSTART:20250330T010000
END:DAYLIGHT
BEGIN:STANDARD
TZOFFSETFROM:+0200
TZOFFSETTO:+0100
TZNAME:CET
DTSTART:20251026T010000
END:STANDARD
BEGIN:DAYLIGHT
TZOFFSETFROM:+0100
TZOFFSETTO:+0200
TZNAME:CEST
DTSTART:20260329T010000
END:DAYLIGHT
BEGIN:STANDARD
TZOFFSETFROM:+0200
TZOFFSETTO:+0100
TZNAME:CET
DTSTART:20261025T010000
END:STANDARD
BEGIN:DAYLIGHT
TZOFFSETFROM:+0100
TZOFFSETTO:+0200
TZNAME:CEST
DTSTART:20270328T010000
END:DAYLIGHT
BEGIN:STANDARD
TZOFFSETFROM:+0200
TZOFFSETTO:+0100
TZNAME:CET
DTSTART:20271031T010000
END:STANDARD
END:VTIMEZONE
BEGIN:VEVENT
DTSTART;TZID=Europe/Berlin:20260520T190000
DTEND;TZID=Europe/Berlin:20260520T210000
DTSTAMP:20260423T102038
CREATED:20260113T192602Z
LAST-MODIFIED:20260113T193633Z
UID:10000428-1779303600-1779310800@manege-lintorf.de
SUMMARY:Poetry Slam Ratingen
DESCRIPTION:Starke Texte\, pointierte Auftritte und ein Abend zwischen Humor\, Nachdenklichkeit und sprachlicher Präzision. Erfahrene Slammer*innen treffen auf neue Stimmen\, das Publikum entscheidet über den Ausgang des Abends. \nOb laut oder leise\, lustig oder bitterernst – hier kommt das auf die Bühne\, was gesagt werden muss. \nManege Lintorf20.05.2026 · 19:00 UhrVVK: 5 € · AK: 7 €
URL:https://manege-lintorf.de/termin/poetry-slam-ratingen-8
LOCATION:Poetry Slam Ratingen\, Jahnstr.\, Ratingen\, 40885\, Deutschland
CATEGORIES:Events,Poetry Slam
ATTACH;FMTTYPE=image/png:https://manege-lintorf.de/wp-content/uploads/2026/01/3Website3-200526.png
ORGANIZER;CN="Robert Thaler":MAILTO:Robert@manege-Lintorf.de
END:VEVENT
END:VCALENDAR